BEGIN:VCALENDAR
VERSION:2.0
PRODID:-//Tutto Vino &amp; Teatro diVino - ECPv4.6.3//NONSGML v1.0//EN
CALSCALE:GREGORIAN
METHOD:PUBLISH
X-WR-CALNAME:Tutto Vino &amp; Teatro diVino
X-ORIGINAL-URL:http://www.teatrodivino.de
X-WR-CALDESC:Events for Tutto Vino &amp; Teatro diVino
BEGIN:VEVENT
DTSTART;TZID=Europe/Berlin:20211006T190000
DTEND;TZID=Europe/Berlin:20211006T213000
DTSTAMP:20260424T135655
CREATED:20210909T154539Z
LAST-MODIFIED:20210909T154539Z
UID:2771-1633546800-1633555800@www.teatrodivino.de
SUMMARY:Weinprobe Piemonte Dante & Rivetti
DESCRIPTION:Wir freuen uns sehr nach so langer Zeit wieder eine Weinprobe anbieten zu können. \nLeider ist die Personenzahl auf 20 begrenzt\, deswegen schnell anmelden ! \nWir freuen uns auf Sie ! \nDas Tutto Vino Team \n
URL:http://www.teatrodivino.de/events/weinprobe-piemonte-dante-rivetti/
ORGANIZER;CN="Tutto%20Vino":MAILTO:info@tutto-vino.de
END:VEVENT
END:VCALENDAR