BEGIN:VCALENDAR
VERSION:2.0
PRODID:-//Tutto Vino &amp; Teatro diVino - ECPv4.6.3//NONSGML v1.0//EN
CALSCALE:GREGORIAN
METHOD:PUBLISH
X-WR-CALNAME:Tutto Vino &amp; Teatro diVino
X-ORIGINAL-URL:http://www.teatrodivino.de
X-WR-CALDESC:Events for Tutto Vino &amp; Teatro diVino
BEGIN:VEVENT
DTSTART;TZID=Europe/Berlin:20221115T190000
DTEND;TZID=Europe/Berlin:20221115T210000
DTSTAMP:20260425T103257
CREATED:20221110T112036Z
LAST-MODIFIED:20221110T112036Z
UID:2872-1668538800-1668546000@www.teatrodivino.de
SUMMARY:Lioba Albus "Lesung"
DESCRIPTION:Buch Premiere am 28.10.2021: Älter werde ich später  \nFrech\, emanzipiert\, direkt – das Romandebüt der beliebten Kabarettistin Lioba Albus!\nMila ist 59 und zufrieden mit ihrem Leben. Ihr Freundeskreis ist groß\, ihre Arbeit als Chefin einer kleinen Agentur erfüllend\, und die Kinder sind erwachsen und aus dem Haus. Das Alter? Weder ein Thema noch ein Problem. Doch auf einmal stehen Sohn und Tochter wieder auf der Schwelle und fordern Asyl\, und die Männer aus ihren wilden Jahren verlangen Aufmerksamkeit und Antworten auf alte Fragen. Mila ist überfordert. Wie wird sie die Bagage nur wieder los? Und gibt es vielleicht am Ende doch den einen\, mit dem zusammen das Leben noch ein bisschen federleichter ist? \n
URL:http://www.teatrodivino.de/events/lioba-albus-lesung/
LOCATION:Könemannshof 2\, Peine\, Niedersachsen\, 31228\, Deutschland
ORGANIZER;CN="Teatro%20diVino":MAILTO:info@teatrodivino.de
END:VEVENT
END:VCALENDAR