BEGIN:VCALENDAR
VERSION:2.0
PRODID:-//Tutto Vino &amp; Teatro diVino - ECPv4.6.3//NONSGML v1.0//EN
CALSCALE:GREGORIAN
METHOD:PUBLISH
X-WR-CALNAME:Tutto Vino &amp; Teatro diVino
X-ORIGINAL-URL:http://www.teatrodivino.de
X-WR-CALDESC:Events for Tutto Vino &amp; Teatro diVino
BEGIN:VEVENT
DTSTART;TZID=Europe/Berlin:20221125T190000
DTEND;TZID=Europe/Berlin:20221125T210000
DTSTAMP:20260425T103221
CREATED:20220208T150326Z
LAST-MODIFIED:20220208T150326Z
UID:2800-1669402800-1669410000@www.teatrodivino.de
SUMMARY:Sia Korthaus " Oh Pannenbaum"
DESCRIPTION:Sia Korthaus„Oh Pannenbaum –wie schräg hängt dein Lametta“Sobald wir im Supermarkt gegen die erste Mauer aus „Dominostei-nen“ laufen und uns die Dauerbeschallung mit „Jingle Bells“ einenTinnitus verpasst\, also direkt nach den Sommerferien\, befinden wiruns im Weihnachtsmodus.Was folgt\, ist die „besinnliche“ Zeit\, angefüllt mit Wichtelgeschenkenaus dem kleinen Horrorladen und mit x-Besuchen auf den Weihnachts-märkten\, bei denen wir so viel Glühwein trinken\, bis wir Sachen ausFilz schön finden. Dazu kommt die Weihnachtsfeier in der Firma\, die solange ein ungeliebtes Pflichtprogramm ist\, bis sich der erste mit blankemPo auf den Kopierer setzt. \n \n
URL:http://www.teatrodivino.de/events/sia-korthaus-oh-pannenbaum/
LOCATION:Könemannshof 2\, Peine\, Niedersachsen\, 31228\, Deutschland
ORGANIZER;CN="Teatro%20diVino":MAILTO:info@teatrodivino.de
END:VEVENT
END:VCALENDAR