BEGIN:VCALENDAR
VERSION:2.0
PRODID:-//Tutto Vino &amp; Teatro diVino - ECPv4.6.3//NONSGML v1.0//EN
CALSCALE:GREGORIAN
METHOD:PUBLISH
X-WR-CALNAME:Tutto Vino &amp; Teatro diVino
X-ORIGINAL-URL:http://www.teatrodivino.de
X-WR-CALDESC:Events for Tutto Vino &amp; Teatro diVino
BEGIN:VEVENT
DTSTART;TZID=Europe/Berlin:20230203T190000
DTEND;TZID=Europe/Berlin:20230203T210000
DTSTAMP:20260425T132526
CREATED:20221110T104334Z
LAST-MODIFIED:20221110T104334Z
UID:2855-1675450800-1675458000@www.teatrodivino.de
SUMMARY:Heinz Klever
DESCRIPTION: \n
URL:http://www.teatrodivino.de/events/heinz-klever-2/
END:VEVENT
END:VCALENDAR