BEGIN:VCALENDAR
VERSION:2.0
PRODID:-//Tutto Vino &amp; Teatro diVino - ECPv4.6.3//NONSGML v1.0//EN
CALSCALE:GREGORIAN
METHOD:PUBLISH
X-WR-CALNAME:Tutto Vino &amp; Teatro diVino
X-ORIGINAL-URL:http://www.teatrodivino.de
X-WR-CALDESC:Events for Tutto Vino &amp; Teatro diVino
BEGIN:VEVENT
DTSTART;TZID=Europe/Berlin:20230217T190000
DTEND;TZID=Europe/Berlin:20230217T210000
DTSTAMP:20260425T151924
CREATED:20221115T155536Z
LAST-MODIFIED:20221115T155943Z
UID:2880-1676660400-1676667600@www.teatrodivino.de
SUMMARY:Sven Bensmann " Yes we Sven"
DESCRIPTION:SVEN BENSMANNYES WE SVENDas neue ProgrammDas All-in-One Entertainment Gesamtpaket Sven Bensmann startet wiederdurch. Die besten Voraussetzungen dafür bringt der Ende 20-jährige Komiker\,Musiker und menschgewordene Kuschelbär zumindest schon seit einigenJahren mit auf die Comedy Bühnen dieses Landes.Herzlich und charmant lässt das Vorzeigedorfkind Bensmann die Grenzen zwischenurkomischer Stand-up Comedy und handgemachter Musik verschwimmen. Mit seinervielseitigen Reibeisenstimme\, die immer wieder gesangliche Vorbilder wie Joe Cocker oderBruce Springsteen erkennen lässt\, untermauert Sven seine Themen: Disney\, Dorf undDödelwitze!Wer noch nicht in den Genuss gekommen ist wie Sven\, mit musikalischer Begleitung vonseinem Kumpel Jan Niermann\, Witze singt und dabei immer wieder haarscharf an derGürtellinie vorbeischliddert\, sollte sich dieses Spektakel nicht entgehen lassen. Genauso\, wieseine ganz eigene Perspektive auf die größten Unterschiede zwischen Stadt und Land undwarum er sich irgendwo dazwischen wiederfindet\, eher als urbanes Dorfkind sozusagen.Wenn Sven dann noch die fantasievollsten und bei Jung und Alt beliebtesten Disney-Songs inseiner Fortsetzung der Mega-Erfolgsrubrik „Daily Disney“\, um textet und auf alltägliche\,saulustige Situationen ummünzt\, bleibt im Publikum selten ein Auge trocken.Und immer\, wenn man gerade nicht damit rechnet\, verlässt der Sidekick des Kult-Waschsalons NightWash seinen roten Faden und die Komfortzone\, um seinem Publikum somanche improvisierte Überraschung zu bescheren. Immer nah an seinen Zuschauern\, sauwitzig\, musikalisch anspruchsvoll und verdammt liebevoll\, das ist Sven Bensmann.SVEN BENSMANN\n \n
URL:http://www.teatrodivino.de/events/sven-bensmann-yes-we-sven/
LOCATION:Könemannshof 2\, Peine\, Niedersachsen\, 31228\, Deutschland
ORGANIZER;CN="Teatro%20diVino":MAILTO:info@teatrodivino.de
END:VEVENT
END:VCALENDAR