BEGIN:VCALENDAR
VERSION:2.0
PRODID:-//Tutto Vino &amp; Teatro diVino - ECPv4.6.3//NONSGML v1.0//EN
CALSCALE:GREGORIAN
METHOD:PUBLISH
X-WR-CALNAME:Tutto Vino &amp; Teatro diVino
X-ORIGINAL-URL:http://www.teatrodivino.de
X-WR-CALDESC:Events for Tutto Vino &amp; Teatro diVino
BEGIN:VEVENT
DTSTART;TZID=Europe/Berlin:20230312T190000
DTEND;TZID=Europe/Berlin:20230312T210000
DTSTAMP:20260425T171804
CREATED:20221110T104804Z
LAST-MODIFIED:20221110T104804Z
UID:2857-1678647600-1678654800@www.teatrodivino.de
SUMMARY:Andreas Weber "Femannismus"
DESCRIPTION:\nAndreas Weber ist ein moderner Mann. Er hat Instagram\, Facebook\, Twitter und lässt Frauen trotzdem ausreden. Und hört dabei sogar zu! Was\, wenn stimmt\, was Frauen sagen?\n\nLifegoal: KEIN alter weißer Mann werden\, der jedem die Welt erklärt. \nDie Scheidung und das Vatersein für zwei Teenagerjungs hat den Mittvierziger zu einem echten Mann geformt. Mit Gefühlen und so ‘nem Scheiß. Doch was heißt das heutzutage? Sanft ist das neue Stark und Zuhören ist das neue Reden. \nAndreas reflektiert auf der Bühne ehrlich und liebevoll gesellschaftliche Normen und seine eigene Haltung. Moderne Männer müssen ihre Männlichkeit nicht pausenlos unter Beweis stellen. Ein Leben außerhalb des generischen Maskulinums. \nAndreas ist (quasi) ein Feminist. Er traut sich nur nicht\, das auf einem Shirt zu tragen. Das führt in seiner Beziehung natürlich auch zu witzigen Grundsatzfragen. Dabei hat er noch nicht die Lösung für alles\, aber er weiß: Feminismus ist nicht nur was für Frauen\, sondern jetzt\, ganz neu\, auch was für Männer! \nZusammen mit Andreas lachen wir uns durch tiefe Gewässer der Zwischenmenschlichkeit\, aber auch seichte Pfützen des Alltags. Ein Abend wie ein guter Wein mit Freunden. Voller Wertschätzung für die kleinen Momente des Lebens. \n\n
URL:http://www.teatrodivino.de/events/andreas-weber-femannismus/
LOCATION:Könemannshof 2\, Peine\, Niedersachsen\, 31228\, Deutschland
ORGANIZER;CN="Teatro%20diVino":MAILTO:info@teatrodivino.de
END:VEVENT
END:VCALENDAR