BEGIN:VCALENDAR
VERSION:2.0
PRODID:-//Tutto Vino &amp; Teatro diVino - ECPv4.6.3//NONSGML v1.0//EN
CALSCALE:GREGORIAN
METHOD:PUBLISH
X-WR-CALNAME:Tutto Vino &amp; Teatro diVino
X-ORIGINAL-URL:http://www.teatrodivino.de
X-WR-CALDESC:Events for Tutto Vino &amp; Teatro diVino
BEGIN:VEVENT
DTSTART;TZID=Europe/Berlin:20250314T190000
DTEND;TZID=Europe/Berlin:20250314T210000
DTSTAMP:20260425T102022
CREATED:20250117T095505Z
LAST-MODIFIED:20250117T095505Z
UID:3065-1741978800-1741986000@www.teatrodivino.de
SUMMARY:Sebastian Lehmann "Kinderzeit"
DESCRIPTION:\n\n\nSebastian hat die Seiten gewechselt. Bis vor Kurzem war er vor allem Sohn. Jetzt hat er selbst einen. Viele hatten ihm das gar nicht zugetraut. Vor allem seine Mutter.\nBis jetzt hatte Sebastian Elternzeit – viel Zeit mit seinen Eltern\, die aus seiner Heimatstadt Freiburg anrufen. Und jetzt eben Kinderzeit. Schließlich ist es Quatsch\, dass die Elternzeit „Elternzeit“ heißt. Eltern haben nämlich gar keine Zeit mehr – außer für die Kinder. Darum geht das neue Programm um das Kind. Und natürlich auch um die Großeltern. Und um die spätkapitalistischen Zumutungen der Postmoderne und die Moralkonzeption von Immanuel Kant. Vielleicht.\nEs ist für alle Menschen geeignet: Die meisten sind ja entweder Kinder oder Eltern. Manche sind sogar beides. Wie Sebastian. \nSebastian Lehmann ist in Freiburg geboren und lebt in Berlin. Auf SWR3 und RBB radioeins laufen seine Radiokolumnen „Elterntelefonate“ und „Lehmanns Leben“. Er hat zahlreiche Bücher geschrieben\, als letztes ist sein autobiographischer Elternratgeber „Ich hab‘s dir doch gleich gesagt\, Sebastian.“ erschienen. \n\n\n\n„Lustig. Vor allem\, das\, was ich sage.“\nSebastians Vater \n„Selten war ‚einfach nur Lesen‘ so klug\, unterhaltend und zwerchfellerschütternd… Lehmanns sonore\nStimme\, die durch seine Radiokolumnen bekannt wurde\, hat inzwischen Kultstatus.“\nJurybegründung Baden-Württembergischer Kleinkunstpreis \n  \nSebastian Lehmann ist Teil der Lesebühne Fuchs und Söhne in Berlin\, der PotShow in Potsdam und auch der größten Lesebühne Deutschlands\, der Lesedüne\, die auch als Bühne 36 im rbb Fernsehen und auf Netflix lief. Zudem moderiert er den Kreuzberg Slam. \n \n
URL:http://www.teatrodivino.de/events/sebastian-lehmann-kinderzeit/
LOCATION:Könemannshof 2\, Peine\, Niedersachsen\, 31228\, Deutschland
ORGANIZER;CN="Teatro%20diVino":MAILTO:info@teatrodivino.de
END:VEVENT
END:VCALENDAR