BEGIN:VCALENDAR
VERSION:2.0
PRODID:-//Tutto Vino &amp; Teatro diVino - ECPv4.6.3//NONSGML v1.0//EN
CALSCALE:GREGORIAN
METHOD:PUBLISH
X-WR-CALNAME:Tutto Vino &amp; Teatro diVino
X-ORIGINAL-URL:http://www.teatrodivino.de
X-WR-CALDESC:Events for Tutto Vino &amp; Teatro diVino
BEGIN:VEVENT
DTSTART;TZID=Europe/Berlin:20250911T190000
DTEND;TZID=Europe/Berlin:20250911T210000
DTSTAMP:20260425T005749
CREATED:20241219T111350Z
LAST-MODIFIED:20241219T111350Z
UID:3053-1757617200-1757624400@www.teatrodivino.de
SUMMARY:Tim Becker "die Puppen\, die ich rief"
DESCRIPTION:
URL:http://www.teatrodivino.de/events/tim-becker-die-puppen-die-ich-rief-2/
LOCATION:Könemannshof 2\, Peine\, Niedersachsen\, 31228\, Deutschland
ORGANIZER;CN="Teatro%20diVino":MAILTO:info@teatrodivino.de
END:VEVENT
END:VCALENDAR