BEGIN:VCALENDAR
VERSION:2.0
PRODID:-//Tutto Vino &amp; Teatro diVino - ECPv4.6.3//NONSGML v1.0//EN
CALSCALE:GREGORIAN
METHOD:PUBLISH
X-WR-CALNAME:Tutto Vino &amp; Teatro diVino
X-ORIGINAL-URL:http://www.teatrodivino.de
X-WR-CALDESC:Events for Tutto Vino &amp; Teatro diVino
BEGIN:VEVENT
DTSTART;TZID=Europe/Berlin:20260410T190000
DTEND;TZID=Europe/Berlin:20260410T210000
DTSTAMP:20260424T135559
CREATED:20260304T093524Z
LAST-MODIFIED:20260304T093524Z
UID:3087-1775847600-1775854800@www.teatrodivino.de
SUMMARY:Frau Sturm "Arschbombe ins Leben"
DESCRIPTION:Unvorhergesehene Umstände erfordern unvorhersehbare Maßnahmen: Frau Sturm – ungeplant vom konservativen Eheleben im Handtuchgarten der Doppelhaushälfte zur „seltsamen Geschiedenen aus Haus Nr. 126“ befördert. \nPlötzlich Single und knapp über 50 hat sie die Höhen und Tiefen von Trennung\, Tinder und Thrombose achtsam veratmet. Sie nimmt uns mit auf eine besondere Reise durch die Welt der Matches\, Red Flags und Superlikes. Dabei kämpft sie sich charmant und witzig durch gut gemeinte\, aber schlecht formulierte Verkupplungsversuche und entlarvt das Krankheitsbild „SINGLE“ als reine Erfindung! \nFehler? Macht sie immer noch\, aber mit Anlauf und Genuss – eben eine Arschbombe ins Leben! \nOb sie am Ende des Abends die wahre Liebe oder doch eher einen zuverlässigen Hausmeister sucht\, bleibt ein Geheimnis… Aber eins ist sicher: Frau Sturm ist dabei saukomisch – selbst auf dem zweiten Bildungsweg! \n
URL:http://www.teatrodivino.de/events/frau-sturm-arschbombe-ins-leben/
LOCATION:Könemannshof 2\, Peine\, Niedersachsen\, 31228\, Deutschland
ORGANIZER;CN="Tutto%20Vino":MAILTO:info@tutto-vino.de
END:VEVENT
END:VCALENDAR