BEGIN:VCALENDAR
VERSION:2.0
PRODID:-//Tutto Vino &amp; Teatro diVino - ECPv4.6.3//NONSGML v1.0//EN
CALSCALE:GREGORIAN
METHOD:PUBLISH
X-WR-CALNAME:Tutto Vino &amp; Teatro diVino
X-ORIGINAL-URL:http://www.teatrodivino.de
X-WR-CALDESC:Events for Tutto Vino &amp; Teatro diVino
BEGIN:VEVENT
DTSTART;TZID=Europe/Berlin:20260410T190000
DTEND;TZID=Europe/Berlin:20260410T210000
DTSTAMP:20260424T122350
CREATED:20260304T093524Z
LAST-MODIFIED:20260304T093524Z
UID:3087-1775847600-1775854800@www.teatrodivino.de
SUMMARY:Frau Sturm "Arschbombe ins Leben"
DESCRIPTION:Unvorhergesehene Umstände erfordern unvorhersehbare Maßnahmen: Frau Sturm – ungeplant vom konservativen Eheleben im Handtuchgarten der Doppelhaushälfte zur „seltsamen Geschiedenen aus Haus Nr. 126“ befördert. \nPlötzlich Single und knapp über 50 hat sie die Höhen und Tiefen von Trennung\, Tinder und Thrombose achtsam veratmet. Sie nimmt uns mit auf eine besondere Reise durch die Welt der Matches\, Red Flags und Superlikes. Dabei kämpft sie sich charmant und witzig durch gut gemeinte\, aber schlecht formulierte Verkupplungsversuche und entlarvt das Krankheitsbild „SINGLE“ als reine Erfindung! \nFehler? Macht sie immer noch\, aber mit Anlauf und Genuss – eben eine Arschbombe ins Leben! \nOb sie am Ende des Abends die wahre Liebe oder doch eher einen zuverlässigen Hausmeister sucht\, bleibt ein Geheimnis… Aber eins ist sicher: Frau Sturm ist dabei saukomisch – selbst auf dem zweiten Bildungsweg! \n
URL:http://www.teatrodivino.de/events/frau-sturm-arschbombe-ins-leben/
LOCATION:Könemannshof 2\, Peine\, Niedersachsen\, 31228\, Deutschland
ORGANIZER;CN="Tutto%20Vino":MAILTO:info@tutto-vino.de
END:VEVENT
BEGIN:VEVENT
DTSTART;TZID=Europe/Berlin:20260416T190000
DTEND;TZID=Europe/Berlin:20260416T190000
DTSTAMP:20260424T122351
CREATED:20260304T092456Z
LAST-MODIFIED:20260305T110748Z
UID:3080-1776366000-1776366000@www.teatrodivino.de
SUMMARY:Jakob Friedrich "Die Arbeit ruft ! ich ruf nicht zurück
DESCRIPTION:Jakob Friedrich nimmt das Publikum mit auf eine Reise in seinen Arbeitsalltag und imitiert dabei seine Kollegen so authentisch\, dass man das Gefühl bekommt\, mitten im Betrieb zu stehen. \nFreuen Sie sich auf einen Abend voller Situationskomik und interessanten neuen Denkantößen ! \n
URL:http://www.teatrodivino.de/events/jakob-friedrich-die-arbiet-ruft-ich-ruf-nicht-zurueck/
LOCATION:Könemannshof 2\, Peine\, Niedersachsen\, 31228\, Deutschland
ORGANIZER;CN="Teatro%20diVino":MAILTO:info@teatrodivino.de
END:VEVENT
BEGIN:VEVENT
DTSTART;TZID=Europe/Berlin:20260430T190000
DTEND;TZID=Europe/Berlin:20260430T210000
DTSTAMP:20260424T122351
CREATED:20260305T110956Z
LAST-MODIFIED:20260305T110956Z
UID:3097-1777575600-1777582800@www.teatrodivino.de
SUMMARY:Mayo Velvo singt Eurovision
DESCRIPTION:VELVO sings EUROVISION • Jubiläumsedition 2026 • 70 Jahre ESC\n \nZum diesjährigen 70. Eurovisions Jubiläum präsentiert Mayo Velvo ein spezielles „Best Of Eurovision“-Programm mit einem ganz besonderen musikalischen Streifzug durch gut acht Dekaden Eurovision-Geschichte. Natürlich mit polyglotten Pathos-Schlagern\, verbunden mit illustren Geschichten und schillerndem Hintergrundwissen\, die diesem größten popularmusikalischen Festival immer wieder Glanz aber auch unfreiwillige Komik verleihen.\nMit jeder Ausgabe ändert sich der Schwerpunkt im Programm. In dieser Ausgabe richtet sich das dramaturgische Augenmerk nicht nur auf die ESC-Historie des vorjährigen Siegerlandes\, heuer Österreich\, sondern auch auf beliebte Siegertitel und natürlich das ein oder andere ESC-Juwel\, das erwiesen zu Unrecht auf einem der hinteren Tabellenplätzen landete. \nMit neuarrangierten Musik- wie Klaviereinspielungen (u.a. mit Just.Mike oder von Thomas Möller)\, bringt das Velvo-Team so manch dramatische Eurovisionsinszenierung auf den Punkt und nimmt ebenso\, mit zielsicherem Gespür\, einen vermeintlichen Favoriten auf den nächsten ESC-Sieg schon vor dem Großen Finale ins Programm („Rise like a Phoenix“ 2014 / „Heroes“ 2015 / „Amar pelos dois“ 2017). \nUnd so erfreut sich alljährlich ein stets wachsendes Publikum auf einen abwechslungsreichen Liederabend mit bekannten Grand-Prix Hits\, beinah vergessenen Verlierern und so manch ungekröntem Eurovisons-Klassiker – liebevoll arrangiert\, kommentiert und mit gelegentlichen Überraschungsgästen garniert. \nDie perfekte Einstimmung zum alljährlichen Eurovision Song Contest\, bevor es wieder heißt… „12 points go to…“! \n
URL:http://www.teatrodivino.de/events/mayo-velvo-singt-eurovision/
LOCATION:Könemannshof 2\, Peine\, Niedersachsen\, 31228\, Deutschland
ORGANIZER;CN="Teatro%20diVino":MAILTO:info@teatrodivino.de
END:VEVENT
END:VCALENDAR