BEGIN:VCALENDAR
VERSION:2.0
PRODID:-//Tutto Vino &amp; Teatro diVino - ECPv4.6.3//NONSGML v1.0//EN
CALSCALE:GREGORIAN
METHOD:PUBLISH
X-WR-CALNAME:Tutto Vino &amp; Teatro diVino
X-ORIGINAL-URL:http://www.teatrodivino.de
X-WR-CALDESC:Events for Tutto Vino &amp; Teatro diVino
BEGIN:VEVENT
DTSTART;TZID=Europe/Berlin:20171104T190000
DTEND;TZID=Europe/Berlin:20171104T190000
DTSTAMP:20260425T152020
CREATED:20170903T095946Z
LAST-MODIFIED:20170923T095857Z
UID:1668-1509822000-1509822000@www.teatrodivino.de
SUMMARY:A. R. Gurney - Love Letters
DESCRIPTION:mit Lou Hoffner und Hansi Kraus \n  \n
URL:http://www.teatrodivino.de/events/a-r-gurney-love-letters/
LOCATION:Könemannshof 2\, Peine\, Niedersachsen\, 31228\, Deutschland
CATEGORIES:Kabaret
ORGANIZER;CN="Teatro%20diVino":MAILTO:info@teatrodivino.de
END:VEVENT
END:VCALENDAR