BEGIN:VCALENDAR
VERSION:2.0
PRODID:-//Tutto Vino &amp; Teatro diVino - ECPv4.6.3//NONSGML v1.0//EN
CALSCALE:GREGORIAN
METHOD:PUBLISH
X-WR-CALNAME:Tutto Vino &amp; Teatro diVino
X-ORIGINAL-URL:http://www.teatrodivino.de
X-WR-CALDESC:Events for Tutto Vino &amp; Teatro diVino
BEGIN:VEVENT
DTSTART;TZID=Europe/Berlin:20250406T190000
DTEND;TZID=Europe/Berlin:20250406T210000
DTSTAMP:20260424T184436
CREATED:20241108T101945Z
LAST-MODIFIED:20241108T101945Z
UID:3020-1743966000-1743973200@www.teatrodivino.de
SUMMARY:Alice Köfer "Alice auf Anfang"
DESCRIPTION:Muß das sein \, dass die jetzt auch noch… ? Ja\, es muß  ! Alice Köfer\, die Frau der Boygroup „Vocal Recall“ begibt sich ermalig auf Solopfade. Sie weß selbst noch nicht\, wie der Abend enden wird\, doch eins ist sicher.. Charmant\, berlinernd wird sie sich sensationell gelaunt um Kopf und Kragen quasseln. Mal versehentlich  philosophisch\, mal lustig sinnentleert\, wird sich Alice den wirklich wichtigen Fragen des Lebens widmen.. Warum gibt es in meiner Straße fünf Burgerrestaurants ? Ab wann ist Fallobst tot ? Lohnt sich heute noch eine schöne Unterschrift ? Und warum merke ich mir immer nur die falschen Sachen ? \nNatürlich werden jede Mange Songs erklingen in einer wilden Mischung aus destruktiver Liebeslyrik und Stadion-Pop im Garagenformat. Mitgrölen aus drücklich erwünscht !\n \n
URL:http://www.teatrodivino.de/events/alice-koefer-alice-auf-anfang/
LOCATION:Könemannshof 2\, Peine\, Niedersachsen\, 31228\, Deutschland
ORGANIZER;CN="Teatro%20diVino":MAILTO:info@teatrodivino.de
END:VEVENT
END:VCALENDAR