BEGIN:VCALENDAR
VERSION:2.0
PRODID:-//Tutto Vino &amp; Teatro diVino - ECPv4.6.3//NONSGML v1.0//EN
CALSCALE:GREGORIAN
METHOD:PUBLISH
X-WR-CALNAME:Tutto Vino &amp; Teatro diVino
X-ORIGINAL-URL:http://www.teatrodivino.de
X-WR-CALDESC:Events for Tutto Vino &amp; Teatro diVino
BEGIN:VEVENT
DTSTART;TZID=Europe/Berlin:20210604T180000
DTEND;TZID=Europe/Berlin:20210604T203000
DTSTAMP:20260424T184509
CREATED:20210525T155150Z
LAST-MODIFIED:20210525T155150Z
UID:2740-1622829600-1622838600@www.teatrodivino.de
SUMMARY:Andreas Weber "Single Dad" Teilzeit Alleinerziehend
DESCRIPTION:Wäsche waschen\, Essen kochen\, Klamotten kaufen . Frauensache ?  Ganz sicher nicht !In seinem ersten Soloprogramm wir Andreas zum Ratgeber für geschundene Männernerven….. \n \n
URL:http://www.teatrodivino.de/events/andreas-weber-single-dad-teilzeit-alleinerziehend/
LOCATION:Könemannshof 2\, Peine\, Niedersachsen\, 31228\, Deutschland
END:VEVENT
END:VCALENDAR