BEGIN:VCALENDAR
VERSION:2.0
PRODID:-//Tutto Vino &amp; Teatro diVino - ECPv4.6.3//NONSGML v1.0//EN
CALSCALE:GREGORIAN
METHOD:PUBLISH
X-WR-CALNAME:Tutto Vino &amp; Teatro diVino
X-ORIGINAL-URL:http://www.teatrodivino.de
X-WR-CALDESC:Events for Tutto Vino &amp; Teatro diVino
BEGIN:VEVENT
DTSTART;TZID=Europe/Berlin:20200423T190000
DTEND;TZID=Europe/Berlin:20200423T210000
DTSTAMP:20260424T233752
CREATED:20191008T112107Z
LAST-MODIFIED:20191008T112107Z
UID:2583-1587668400-1587675600@www.teatrodivino.de
SUMMARY:Andreas Weber "Single Dad"
DESCRIPTION:\n\n\n\nAndreas Weber ist ein Vater Ende 30 und lebt nach einer Trennung zum ersten Mal in seinem Leben allein. Er erzählt vom Alltag als frischgebackener Junggeselle und von den Erlebnissen als Vaters von zwei pubertierenden Söhnen. Er beobachtet\, dass Computerspiele aus Kindern keine aggressiven Killer machen\, dazu reicht schon ein Brettspiel-Nachmittag. Aber was ist das “Das schönste Alter” der Kinder? Manchmal glaubt er\, wenn sie irgendwann einen eigenen Fernseher haben… und den in den Umzugswagen tragen. \nEr stellt sich den Herausforderungen des Single-Haushalts und mit kreativen Erklärungen präsentiert er eine Weltsicht\, die mitunter allerdings mehr als nur zart nach Ausrede riecht. So hat er seinen Kleiderschrank optimiert und Platz geschaffen\, in dem er Teile davon ausgelagert hat… auf den Stuhl daneben. Er fragt sich\, warum Duschgel-Flaschen zwei Wochen brauchen bis sie “fast leer” sind\, dieses “fast leer” dann jedoch genau so lange reicht. \nSeine urkomischen Geschichten sind aus dem Leben gegriffen und lassen eine gute Prise schwarzen Humor nicht vermissen. Andreas bleibt dabei stets charmant und auch wenn die Schlitzohrigkeit durchschimmert\, mit dem er sich selbst behauptet. \n\n\n\n
URL:http://www.teatrodivino.de/events/andreas-weber-single-dad/
LOCATION:Könemannshof 2\, Peine\, Niedersachsen\, 31228\, Deutschland
ORGANIZER;CN="Teatro%20diVino":MAILTO:info@teatrodivino.de
END:VEVENT
END:VCALENDAR