BEGIN:VCALENDAR
VERSION:2.0
PRODID:-//Tutto Vino &amp; Teatro diVino - ECPv4.6.3//NONSGML v1.0//EN
CALSCALE:GREGORIAN
METHOD:PUBLISH
X-WR-CALNAME:Tutto Vino &amp; Teatro diVino
X-ORIGINAL-URL:http://www.teatrodivino.de
X-WR-CALDESC:Events for Tutto Vino &amp; Teatro diVino
BEGIN:VEVENT
DTSTART;TZID=Europe/Berlin:20200229T190000
DTEND;TZID=Europe/Berlin:20200229T210000
DTSTAMP:20260425T024528
CREATED:20191008T102839Z
LAST-MODIFIED:20191008T102839Z
UID:2578-1583002800-1583010000@www.teatrodivino.de
SUMMARY:Angelika Beier "Zwischen Sex und 60"
DESCRIPTION:\n\n\nBEIER-SOLO „Zwischen Sex und 60“ \nWiesbadner Kurier vom 11.2. 2019 \nIDSTEIN – Früher habe man ihr Reizwäsche zum Geburtstag geschenkt\, heute sei es ein Thermomix. Früher habe man sich gemeinsam Pornos angeschaut\, heute eher Kochsendungen\, erzählt „Fanny\, die alte Schachtel“ aus München. Damit belegt sie die These\, dass „Essen der Sex des Alters ist“\, auch wenn sie sich trotz ihres 40-jährigen Bühnenjubiläums in diesem Monat wie 39 fühlt. Und das wiederum glaube man ihr\, wenn sie auf die berühmte Melodie von „Je t’aime“ mit entsprechender Mimik und Gestik die Menükarte vorsinge.\nDie vielen Aspekte des Themas „Zwischen Sex und Sechzig – mit Vollgas in die zweite Lebenshälfte“ präsentiert Angelika Beier sehr wandlungsfähig in verschiedenen Figuren\, die zu ihrer „multiplen Persönlichkeit“ gehören. Als Klofrau Iwanka mit Gummistiefeln\, Kappe und Besen im Leopardenlook schmettert sie ein satirisches „Klolied“. Als Gisa aus Gießen mit blonder Perücke und Karohemd erzählt\, sie habe nach der Lektüre von „Shades of Grey“ mit ihrem Willi Handfesseln beim Sex ausprobiert\, und die schmetterlingsbunte Josephine sammelt Flaschen\, um sich den großen Traum von der Insel Sansibar zu erfüllen. \n\n
URL:http://www.teatrodivino.de/events/angelika-beier-zwischen-sex-und-60/
LOCATION:Könemannshof 2\, Peine\, Niedersachsen\, 31228\, Deutschland
ORGANIZER;CN="Teatro%20diVino":MAILTO:info@teatrodivino.de
END:VEVENT
END:VCALENDAR