BEGIN:VCALENDAR
VERSION:2.0
PRODID:-//Tutto Vino &amp; Teatro diVino - ECPv4.6.3//NONSGML v1.0//EN
CALSCALE:GREGORIAN
METHOD:PUBLISH
X-WR-CALNAME:Tutto Vino &amp; Teatro diVino
X-ORIGINAL-URL:http://www.teatrodivino.de
X-WR-CALDESC:Events for Tutto Vino &amp; Teatro diVino
BEGIN:VEVENT
DTSTART;TZID=Europe/Berlin:20200326T190000
DTEND;TZID=Europe/Berlin:20200326T213000
DTSTAMP:20260425T011923
CREATED:20181120T111228Z
LAST-MODIFIED:20200403T123845Z
UID:2454-1585249200-1585258200@www.teatrodivino.de
SUMMARY:Beier & Hang "BeklOptiemierung"  diese Veranstaltung wird auf den 18.2.2021 verschoben !!!
DESCRIPTION:Von 2014-2017 moderierten sie das erste wöchentlich erscheinende Studentenmagazin\nim deutschen Fernsehen\, das „\nCampus MAGAZIN\n“ auf ARD-alpha. Seit Februar 2016\nerobern sie mit ihrem Erstlingsprogramm „\nSchmutzige Wäsche\n“ die Bühnen der\nRepublik und gehen ab 15.3.2019 mit dem neuen Programm „BeklOptimierung“ auf\nbundesweite Tournee.\nSie liefern witzige\, fantasievolle Texte\, die sich durch kunstfertige Sprachspiele\nauszeichnen und alle aus ihrer kreativen Feder stammen.\n
URL:http://www.teatrodivino.de/events/beier-hang-bekloptiemierung/
LOCATION:Könemannshof 2\, Peine\, Niedersachsen\, 31228\, Deutschland
END:VEVENT
END:VCALENDAR