BEGIN:VCALENDAR
VERSION:2.0
PRODID:-//Tutto Vino &amp; Teatro diVino - ECPv4.6.3//NONSGML v1.0//EN
CALSCALE:GREGORIAN
METHOD:PUBLISH
X-WR-CALNAME:Tutto Vino &amp; Teatro diVino
X-ORIGINAL-URL:http://www.teatrodivino.de
X-WR-CALDESC:Events for Tutto Vino &amp; Teatro diVino
BEGIN:VEVENT
DTSTART;TZID=Europe/Berlin:20190616T110000
DTEND;TZID=Europe/Berlin:20190616T140000
DTSTAMP:20260425T104246
CREATED:20181018T105812Z
LAST-MODIFIED:20181018T105812Z
UID:2420-1560682800-1560693600@www.teatrodivino.de
SUMMARY:Dirk Wrenger Jazz Frühschoppen
DESCRIPTION: \n
URL:http://www.teatrodivino.de/events/dirk-wrenger-jazz-fruehschoppen/
LOCATION:Könemannshof 2\, Peine\, Niedersachsen\, 31228\, Deutschland
END:VEVENT
END:VCALENDAR