BEGIN:VCALENDAR
VERSION:2.0
PRODID:-//Tutto Vino &amp; Teatro diVino - ECPv4.6.3//NONSGML v1.0//EN
CALSCALE:GREGORIAN
METHOD:PUBLISH
X-WR-CALNAME:Tutto Vino &amp; Teatro diVino
X-ORIGINAL-URL:http://www.teatrodivino.de
X-WR-CALDESC:Events for Tutto Vino &amp; Teatro diVino
BEGIN:VEVENT
DTSTART;TZID=Europe/Berlin:20190125T190000
DTEND;TZID=Europe/Berlin:20190125T220000
DTSTAMP:20260425T031015
CREATED:20190110T120019Z
LAST-MODIFIED:20190110T120019Z
UID:2465-1548442800-1548453600@www.teatrodivino.de
SUMMARY:"Dolce Vita" im Teatro diVino
DESCRIPTION:Nette Menschen \, interessante Gespräche\, wunderbarer Wein\, kulinarische Leckereien und Live Musik mit Luisa ! \n
URL:http://www.teatrodivino.de/events/dolce-vita-im-teatro-divino/
LOCATION:Könemannshof 2\, Peine\, Niedersachsen\, 31228\, Deutschland
ORGANIZER;CN="Teatro%20diVino":MAILTO:info@teatrodivino.de
END:VEVENT
END:VCALENDAR