BEGIN:VCALENDAR
VERSION:2.0
PRODID:-//Tutto Vino &amp; Teatro diVino - ECPv4.6.3//NONSGML v1.0//EN
CALSCALE:GREGORIAN
METHOD:PUBLISH
X-WR-CALNAME:Tutto Vino &amp; Teatro diVino
X-ORIGINAL-URL:http://www.teatrodivino.de
X-WR-CALDESC:Events for Tutto Vino &amp; Teatro diVino
BEGIN:VEVENT
DTSTART;TZID=Europe/Berlin:20250926T200000
DTEND;TZID=Europe/Berlin:20250926T220000
DTSTAMP:20260424T214750
CREATED:20241219T111035Z
LAST-MODIFIED:20241219T111035Z
UID:3050-1758916800-1758924000@www.teatrodivino.de
SUMMARY:Eco Klipper "Verrückt im Hirn"
DESCRIPTION:Verrückt im Hirn \nEco Klippel \nDie Bühne hat auf Eco Klippel schon seit seiner Studienzeit einen Reiz ausgeübt. Inzwischen ist er nicht nur als Neurologe bekannt. Seine Auftritte als Comedian und Sänger sind gefragt. 2018\, 2019\, 2022 und 2024 gastierte er in der Brunsviga\, vor ausverkauftem Haus. Im Oktober 2022 spielte er im renommierten Mainzer Unterhaus. Am Freitag\, 26.09.2025 gastiert er nun erstmals mit seinem neuen Soloprogramm auf der Bühne des Tutto Vino Teatro in Peine Stederdorf. \nDie Zeit der Pandemie hat\, wie bei allen\, Spuren hinterlassen aber auch viel Zeit gegeben neue Ideen\, Lieder und Texte zu entwickeln. Genießen Sie einen satirischen\, humorigen\, aber auch nachdenklichen Abend und erleben Sie Eco Klippel mit seinem Programm. \n
URL:http://www.teatrodivino.de/events/eco-klipper-verrueckt-im-hirn/
LOCATION:Könemannshof 2\, Peine\, Niedersachsen\, 31228\, Deutschland
ORGANIZER;CN="Teatro%20diVino":MAILTO:info@teatrodivino.de
END:VEVENT
END:VCALENDAR