BEGIN:VCALENDAR
VERSION:2.0
PRODID:-//Tutto Vino &amp; Teatro diVino - ECPv4.6.3//NONSGML v1.0//EN
CALSCALE:GREGORIAN
METHOD:PUBLISH
X-WR-CALNAME:Tutto Vino &amp; Teatro diVino
X-ORIGINAL-URL:http://www.teatrodivino.de
X-WR-CALDESC:Events for Tutto Vino &amp; Teatro diVino
BEGIN:VEVENT
DTSTART;TZID=Europe/Berlin:20211105T190000
DTEND;TZID=Europe/Berlin:20211105T210000
DTSTAMP:20260424T122841
CREATED:20200804T093304Z
LAST-MODIFIED:20211103T145430Z
UID:2671-1636138800-1636146000@www.teatrodivino.de
SUMMARY:Eva Karl Faltermeier
DESCRIPTION:Eva Karl Faltermeier vereint Proletarier und Bourgeoisie im kabarettistischen Abgrund der Geschichtenerzählung. Sie zieht vom Bauernhof an den Hof\, redet sich um Kopf und Kragen und räumt dabei mit allen gesellschaftlichen Klischees auf\, die Stände und Abstammung nun mal so mit sich bringen. \n\nEva Karl Faltermeier (38) ist Mutter zweier Kinder und gelernte Journalistin. Ihr Ziel mit\nGeschichten zu unterhalten führte sie über verschiedene Klippen hin zum absoluten Abgrund:\ndem Kabarett. Eva Karl Faltermeier ist Blogautorin\, Dozentin und schreibt Kolumnen (Bayern2). Ihr erstes Programm „Es geht dahi“ wurde mit dem Senkrechtstarter-Preis des Bayerischen Kabarettpreises und dem Newcomerpreis des Hessischen Kabarettpreises ausgezeichnet.\nDie Stadt Regensburg ehrte sie mit dem „Kulturförderpreis 2020“. Ihre liebsten Hobbies\nsind Watten\, Gartenarbeit und Wandern mit ihren Kindern \nPortrait Eva Maria Faltermeier Pettenreuth \n  \n
URL:http://www.teatrodivino.de/events/eva-karl-faltermeier/
END:VEVENT
END:VCALENDAR