BEGIN:VCALENDAR
VERSION:2.0
PRODID:-//Tutto Vino &amp; Teatro diVino - ECPv4.6.3//NONSGML v1.0//EN
CALSCALE:GREGORIAN
METHOD:PUBLISH
X-WR-CALNAME:Tutto Vino &amp; Teatro diVino
X-ORIGINAL-URL:http://www.teatrodivino.de
X-WR-CALDESC:Events for Tutto Vino &amp; Teatro diVino
BEGIN:VEVENT
DTSTART;TZID=Europe/Berlin:20201024T190000
DTEND;TZID=Europe/Berlin:20201024T210000
DTSTAMP:20260424T171837
CREATED:20191008T142856Z
LAST-MODIFIED:20191008T142856Z
UID:2603-1603566000-1603573200@www.teatrodivino.de
SUMMARY:Frank Sauer "Mit Vollgas in die Sackgasse"
DESCRIPTION:„Mit Vollgas in die Sackgasse“ ist ein Programm rund um alles\, was zu schnell geht. Oder zu langsam. Fest steht nur: Am Ende der Sackgasse treffen sich alle wieder. Und auch das wird mal wieder – typisch Sauer – ein kabarettistischer Hochgeschwindigkeitsabend\, der es sich trotzdem nicht nehmen lässt\, zwischendurch auch mal ein Loblied auf die Faulheit zu singen. Denn Faulheit ist nichts anderes als die Kunst\, vorsorglich schon mal Pause zu machen\, bevor man müde wird. \n
URL:http://www.teatrodivino.de/events/frank-sauer-mit-vollgas-in-die-sackgasse/
LOCATION:Könemannshof 2\, Peine\, Niedersachsen\, 31228\, Deutschland
ORGANIZER;CN="Teatro%20diVino":MAILTO:info@teatrodivino.de
END:VEVENT
END:VCALENDAR