BEGIN:VCALENDAR
VERSION:2.0
PRODID:-//Tutto Vino &amp; Teatro diVino - ECPv4.6.3//NONSGML v1.0//EN
CALSCALE:GREGORIAN
METHOD:PUBLISH
X-WR-CALNAME:Tutto Vino &amp; Teatro diVino
X-ORIGINAL-URL:http://www.teatrodivino.de
X-WR-CALDESC:Events for Tutto Vino &amp; Teatro diVino
BEGIN:VEVENT
DTSTART;TZID=Europe/Berlin:20180117T190000
DTEND;TZID=Europe/Berlin:20180117T190000
DTSTAMP:20260425T140153
CREATED:20170903T100350Z
LAST-MODIFIED:20171103T090221Z
UID:1672-1516215600-1516215600@www.teatrodivino.de
SUMMARY:Golden Ace Magierduo
DESCRIPTION:mit neuem Programm \n
URL:http://www.teatrodivino.de/events/golden-ace-magierduo/
LOCATION:Könemannshof 2\, Peine\, Niedersachsen\, 31228\, Deutschland
CATEGORIES:Show
ORGANIZER;CN="Teatro%20diVino":MAILTO:info@teatrodivino.de
END:VEVENT
END:VCALENDAR