BEGIN:VCALENDAR
VERSION:2.0
PRODID:-//Tutto Vino &amp; Teatro diVino - ECPv4.6.3//NONSGML v1.0//EN
CALSCALE:GREGORIAN
METHOD:PUBLISH
X-WR-CALNAME:Tutto Vino &amp; Teatro diVino
X-ORIGINAL-URL:http://www.teatrodivino.de
X-WR-CALDESC:Events for Tutto Vino &amp; Teatro diVino
BEGIN:VEVENT
DTSTART;TZID=Europe/Berlin:20231005T190000
DTEND;TZID=Europe/Berlin:20231005T210000
DTSTAMP:20260425T022913
CREATED:20221110T111042Z
LAST-MODIFIED:20221110T111042Z
UID:2866-1696532400-1696539600@www.teatrodivino.de
SUMMARY:Jackob Friedrich "neues program"
DESCRIPTION: \n
URL:http://www.teatrodivino.de/events/jackob-friedrich-neues-program/
END:VEVENT
END:VCALENDAR