BEGIN:VCALENDAR
VERSION:2.0
PRODID:-//Tutto Vino &amp; Teatro diVino - ECPv4.6.3//NONSGML v1.0//EN
CALSCALE:GREGORIAN
METHOD:PUBLISH
X-WR-CALNAME:Tutto Vino &amp; Teatro diVino
X-ORIGINAL-URL:http://www.teatrodivino.de
X-WR-CALDESC:Events for Tutto Vino &amp; Teatro diVino
BEGIN:VEVENT
DTSTART;TZID=Europe/Berlin:20231020T190000
DTEND;TZID=Europe/Berlin:20231020T210000
DTSTAMP:20260425T023727
CREATED:20221110T113239Z
LAST-MODIFIED:20221110T113239Z
UID:2878-1697828400-1697835600@www.teatrodivino.de
SUMMARY:JOHANN THEISEN  NEUES PROGRAMM VORPREMIERE
DESCRIPTION:Mit seinen bekloppten Geschichten\, behämmerten Witzen\, und charmanten Puplikumsgesprächen sorgt Johann Theisen in ganz Deutschland regelmäßig für Lachflashs. Bekannt aus Quatsch Comedy Club\, Nightwash\, NDR Comedy Club oder als SWR 3 Club Comedian der Woche ist er ein gern gesehener Gast in vielen Theatern des Landes\, durch die er mit seinem furiosen Live-Programm \nOLYMPUS DIGITAL CAMERA \n
URL:http://www.teatrodivino.de/events/johann-theisen-neues-programm-vorpremiere-2/
LOCATION:Könemannshof 2\, Peine\, Niedersachsen\, 31228\, Deutschland
ORGANIZER;CN="Teatro%20diVino":MAILTO:info@teatrodivino.de
END:VEVENT
END:VCALENDAR