BEGIN:VCALENDAR
VERSION:2.0
PRODID:-//Tutto Vino &amp; Teatro diVino - ECPv4.6.3//NONSGML v1.0//EN
CALSCALE:GREGORIAN
METHOD:PUBLISH
X-WR-CALNAME:Tutto Vino &amp; Teatro diVino
X-ORIGINAL-URL:http://www.teatrodivino.de
X-WR-CALDESC:Events for Tutto Vino &amp; Teatro diVino
BEGIN:VEVENT
DTSTART;TZID=Europe/Berlin:20220210T193000
DTEND;TZID=Europe/Berlin:20220210T210000
DTSTAMP:20260424T135945
CREATED:20220208T142940Z
LAST-MODIFIED:20220208T142940Z
UID:2781-1644521400-1644526800@www.teatrodivino.de
SUMMARY:Johann Theisen " Theisen Total"
DESCRIPTION:In seinen Stand-up Nummern erzählt der junge\, dynamische Johann Theisen Geschichten aus seinem Leben und dem anderer. Er analysiert\, dichtet\, regt sich auf\, freut sich und durchkämmt die Welt auf der Suche nach all den Kuriositäten\, die Mutter Erde so zu bieten hat. Und singen kann er auch. Eigene Rapsongs sorgen für Schwung zwischen den Stand-up Nummern\, ebenso wie Zauberei Einlagen. \n \n
URL:http://www.teatrodivino.de/events/johann-theisen-theisen-total/
ORGANIZER;CN="Teatro%20diVino":MAILTO:info@teatrodivino.de
END:VEVENT
END:VCALENDAR