BEGIN:VCALENDAR
VERSION:2.0
PRODID:-//Tutto Vino &amp; Teatro diVino - ECPv4.6.3//NONSGML v1.0//EN
CALSCALE:GREGORIAN
METHOD:PUBLISH
X-WR-CALNAME:Tutto Vino &amp; Teatro diVino
X-ORIGINAL-URL:http://www.teatrodivino.de
X-WR-CALDESC:Events for Tutto Vino &amp; Teatro diVino
BEGIN:VEVENT
DTSTART;TZID=Europe/Berlin:20210508T190000
DTEND;TZID=Europe/Berlin:20210508T210000
DTSTAMP:20260424T184213
CREATED:20200804T092318Z
LAST-MODIFIED:20210511T145644Z
UID:2660-1620500400-1620507600@www.teatrodivino.de
SUMMARY:Kathi Wolf - fällt aus
DESCRIPTION: \n
URL:http://www.teatrodivino.de/events/kathi-wolf/
END:VEVENT
END:VCALENDAR