BEGIN:VCALENDAR
VERSION:2.0
PRODID:-//Tutto Vino &amp; Teatro diVino - ECPv4.6.3//NONSGML v1.0//EN
CALSCALE:GREGORIAN
METHOD:PUBLISH
X-WR-CALNAME:Tutto Vino &amp; Teatro diVino
X-ORIGINAL-URL:http://www.teatrodivino.de
X-WR-CALDESC:Events for Tutto Vino &amp; Teatro diVino
BEGIN:VEVENT
DTSTART;TZID=Europe/Berlin:20241122T190000
DTEND;TZID=Europe/Berlin:20241122T210000
DTSTAMP:20260425T022413
CREATED:20231117T094633Z
LAST-MODIFIED:20240924T085837Z
UID:2914-1732302000-1732309200@www.teatrodivino.de
SUMMARY:Lioba Albus "Ende offen "
DESCRIPTION: \nEnde offen\n\n“Ende offen” – schöner Schlussmachen \nWer nie Schluss macht\, kann auch nicht neu beginnen. Wir alle haben in unserem Leben schon so einige Male Schluss gemacht. Mit dem Partner\, mit dem Rauchen\, mit der Freundin oder mit dem Nägelkauen. Und daher wissen wir: schönes Schlussmachen will gelernt sein. Wer könnte der Menschheit da hilfreicher zur Seite stehen\, als Mia Mittelkötter\, die uneingeschränkte Fachfrau für alles. Schließlich hat sie ihrem trägen Dauersesselbewohner\, dem Ehemann Gustav\, schon häufig angedroht ihn endgültig zu verlassen. Der aber hat sie immer nur angestrahlt und gesagt: „Au ja\, ich komme mit!“ Ob Mias Publikum da genauso reagiert\, wenn sie ankündigt\, die Bühne für immer zu verlassen? \nIn ihrem Abschiedsprogramm beschäftigt sich die Dortmunder Kabarettistin mit dem Thema Aufhören. Zur Seite stehen ihr dabei wie immer\, die Pommesfachverkäuferin Witta\, der Promillphilsosoph Detlev und natürlich Mia Mittelkötter. In einer temporeichen Show bietet Albus Neues und Bewährtes und zeigt brandneue Nummern im Mix mit den besten Filetstückchen aus 35 Jahren Kabarett. Schließlich weiß sie: man soll aufhören\, wenn’s am schönsten ist. Aber war es wirklich schon am schönsten? \nDas erfährt nur\, wer sich das letzte Kabarettprogramm von Lioba Albus selbst anschaut. Und natürlich gilt danach\, der Letzte macht das Licht aus. Und das ist immer der/die TechnikerIn. \n\n
URL:http://www.teatrodivino.de/events/lioba-albus-2/
LOCATION:Könemannshof 2\, Peine\, Niedersachsen\, 31228\, Deutschland
ORGANIZER;CN="Teatro%20diVino":MAILTO:info@teatrodivino.de
END:VEVENT
END:VCALENDAR