BEGIN:VCALENDAR
VERSION:2.0
PRODID:-//Tutto Vino &amp; Teatro diVino - ECPv4.6.3//NONSGML v1.0//EN
CALSCALE:GREGORIAN
METHOD:PUBLISH
X-WR-CALNAME:Tutto Vino &amp; Teatro diVino
X-ORIGINAL-URL:http://www.teatrodivino.de
X-WR-CALDESC:Events for Tutto Vino &amp; Teatro diVino
BEGIN:VEVENT
DTSTART;TZID=Europe/Berlin:20220520T190000
DTEND;TZID=Europe/Berlin:20220520T210000
DTSTAMP:20260424T214832
CREATED:20220208T145016Z
LAST-MODIFIED:20220208T145016Z
UID:2791-1653073200-1653080400@www.teatrodivino.de
SUMMARY:Lioba Albus   "Mia- eine Weltmacht mit drei Buchstaben"
DESCRIPTION:Die Kabarettistin Lioba Albus greift auf satirische Weise Alltagssituationen auf und überspitzt typische gesellschaftliche Verhaltensweisen. Ihr beliebtestes Thema sind die Beziehungen zwischen Mann und Frau. Dabei schlüpft sie häufig in verschiedene Rollen und teilt in alle Richtungen kräftig aus.\nKabarett zwischen fein und gemein.\nEine Frau für gewisse Stunden\n… zärtlich wie Gilette\n… lieblich wie Domestos\n… trocken wie Allways ultra\nund vor allem eins:  Saukomisch! \n \n  \n
URL:http://www.teatrodivino.de/events/lioba-albus-mia-eine-weltmacht-mit-drei-buchstaben/
LOCATION:Könemannshof 2\, Peine\, Niedersachsen\, 31228\, Deutschland
ORGANIZER;CN="Teatro%20diVino":MAILTO:info@teatrodivino.de
END:VEVENT
END:VCALENDAR