BEGIN:VCALENDAR
VERSION:2.0
PRODID:-//Tutto Vino &amp; Teatro diVino - ECPv4.6.3//NONSGML v1.0//EN
CALSCALE:GREGORIAN
METHOD:PUBLISH
X-WR-CALNAME:Tutto Vino &amp; Teatro diVino
X-ORIGINAL-URL:http://www.teatrodivino.de
X-WR-CALDESC:Events for Tutto Vino &amp; Teatro diVino
BEGIN:VEVENT
DTSTART;TZID=Europe/Berlin:20220508T183000
DTEND;TZID=Europe/Berlin:20220508T203000
DTSTAMP:20260424T201140
CREATED:20220208T144629Z
LAST-MODIFIED:20220208T144629Z
UID:2789-1652034600-1652041800@www.teatrodivino.de
SUMMARY:Maria Vollmer " Muttertags Special "
DESCRIPTION:\n\n\nMittelbadische Presse\n\n\nMaria Vollmers Bühnenpräsens ist gewaltig. Sie singt\, sie tanzt\, sie lacht\, sie lästert\, sie zeigt dem Publikum die seltsamen Auswüchse ihrer Welt\, die auch die unsere ist. Die Kölner Comedy-Künstlerin zeigt in ihrer temperamentvollen Bühnenshow Standup-Comedy mit vollem Stimm – und Körpereinsatz. Großer Applaus\, Show ist aus. Herrlich. Wer nicht da war\, hat etwas verpasst. \n\n\n\n \n
URL:http://www.teatrodivino.de/events/maria-vollmer-muttertags-special/
LOCATION:Könemannshof 2\, Peine\, Niedersachsen\, 31228\, Deutschland
ORGANIZER;CN="Teatro%20diVino":MAILTO:info@teatrodivino.de
END:VEVENT
END:VCALENDAR