BEGIN:VCALENDAR
VERSION:2.0
PRODID:-//Tutto Vino &amp; Teatro diVino - ECPv4.6.3//NONSGML v1.0//EN
CALSCALE:GREGORIAN
METHOD:PUBLISH
X-WR-CALNAME:Tutto Vino &amp; Teatro diVino
X-ORIGINAL-URL:http://www.teatrodivino.de
X-WR-CALDESC:Events for Tutto Vino &amp; Teatro diVino
BEGIN:VEVENT
DTSTART;TZID=Europe/Berlin:20200509T190000
DTEND;TZID=Europe/Berlin:20200509T210000
DTSTAMP:20260424T214735
CREATED:20191008T120920Z
LAST-MODIFIED:20191008T120920Z
UID:2589-1589050800-1589058000@www.teatrodivino.de
SUMMARY:Maria Vollmer "Tantra Tupper & Tequila"
DESCRIPTION:  \n\n\n\n\n\n\n\n\n\n\n*Tantra\, Tupper & Tequlia*\n\nWas tut eine Frau\, wenn zwei pubertierende Teenager und ein midlife-kriselnder Ehemann das Geschehen zuhause bestimmen wollen? Sie kümmert sich nicht drum! Sie gönnt sich vielmehr Friseurbesuche\, die so viel kosten wie die Leasingraten fürs Auto. Und sie spürt die im Zimmer der Söhne versteckten Drogen auf – um sie gleich mal auszuprobieren. \nAllerdings wundert sie sich über die Geschenke\, die sie zu ihrem 50. Geburtstag bekommt: ein Tantra-Wochenende in der Eifel\, eine Einladung zu einer Hörgeräte-Party und ein Jochen Schweizer Gutschein für „einmal Auto zertrümmern“ mit einem Partner ihrer Wahl. \nUnd beim Blick in die Zeitung fragt sie sich\, ob man in einer Welt\, die gerade aus den Fugen gerät\, noch unbeschwert genießen\, tanzen und Tequila trinken darf. \nMan darf nicht nur\, man muss\, beschließt sie\, getreu ihrem Motto: Eine Frau sollte nicht darauf warten\, auch etwas vom Kuchen abzubekommen\, sondern den Tortenheber selbst in die Hand nehmen! \n\n\n\n\n\n\n\n\n\n\n  \n
URL:http://www.teatrodivino.de/events/maria-vollmer-tantra-tupper-tequila/
LOCATION:Könemannshof 2\, Peine\, Niedersachsen\, 31228\, Deutschland
ORGANIZER;CN="Teatro%20diVino":MAILTO:info@teatrodivino.de
END:VEVENT
END:VCALENDAR