BEGIN:VCALENDAR
VERSION:2.0
PRODID:-//Tutto Vino &amp; Teatro diVino - ECPv4.6.3//NONSGML v1.0//EN
CALSCALE:GREGORIAN
METHOD:PUBLISH
X-WR-CALNAME:Tutto Vino &amp; Teatro diVino
X-ORIGINAL-URL:http://www.teatrodivino.de
X-WR-CALDESC:Events for Tutto Vino &amp; Teatro diVino
BEGIN:VEVENT
DTSTART;TZID=Europe/Berlin:20210521T190000
DTEND;TZID=Europe/Berlin:20210521T210000
DTSTAMP:20260424T171540
CREATED:20200804T092421Z
LAST-MODIFIED:20210511T145617Z
UID:2663-1621623600-1621630800@www.teatrodivino.de
SUMMARY:Micha Marx -  verschoben
DESCRIPTION: \n
URL:http://www.teatrodivino.de/events/micha-marx-2/
END:VEVENT
END:VCALENDAR