BEGIN:VCALENDAR
VERSION:2.0
PRODID:-//Tutto Vino &amp; Teatro diVino - ECPv4.6.3//NONSGML v1.0//EN
CALSCALE:GREGORIAN
METHOD:PUBLISH
X-WR-CALNAME:Tutto Vino &amp; Teatro diVino
X-ORIGINAL-URL:http://www.teatrodivino.de
X-WR-CALDESC:Events for Tutto Vino &amp; Teatro diVino
BEGIN:VEVENT
DTSTART;TZID=Europe/Berlin:20210226T190000
DTEND;TZID=Europe/Berlin:20210226T210000
DTSTAMP:20260424T185855
CREATED:20200804T075122Z
LAST-MODIFIED:20210107T144852Z
UID:2647-1614366000-1614373200@www.teatrodivino.de
SUMMARY:Olaf Bossi   Endlich Minimalist - Termin entfällt
DESCRIPTION: \n
URL:http://www.teatrodivino.de/events/olaf-bossi-endlich-minimalist-2/
END:VEVENT
END:VCALENDAR