BEGIN:VCALENDAR
VERSION:2.0
PRODID:-//Tutto Vino &amp; Teatro diVino - ECPv4.6.3//NONSGML v1.0//EN
CALSCALE:GREGORIAN
METHOD:PUBLISH
X-WR-CALNAME:Tutto Vino &amp; Teatro diVino
X-ORIGINAL-URL:http://www.teatrodivino.de
X-WR-CALDESC:Events for Tutto Vino &amp; Teatro diVino
BEGIN:VEVENT
DTSTART;TZID=Europe/Berlin:20210416T190000
DTEND;TZID=Europe/Berlin:20210416T210000
DTSTAMP:20260424T200912
CREATED:20200804T091933Z
LAST-MODIFIED:20210304T110903Z
UID:2656-1618599600-1618606800@www.teatrodivino.de
SUMMARY:Roberto Capitoni - verschoben auf den 23.05.2021
DESCRIPTION:Wir befinden uns im Jahre 1962 n. Chr. Ganz Schwaben ist von den Römern besetzt… Ganz Schwaben\, Nein! Ein von unbeugsamen Schwäbischen-Allgäuern bevölkertes kleines Städtchen hört nicht auf\, dem Eindringling Widerstand zu leisten. Erfahren Sie mehr über Robertos Kindheit\, Schulbesuche\, den Ersten Kuss\, seine Zeit als Punk und wie er zur Comedy kam. Lernen Sie auch seinen Paten Onkel auf Sizilien in Palermo kennen\, wenn er Roberto\, wieder eine seiner zahlreichen\, gut gemeinten Tipps gibt\, die aber leider nicht immer hilfreich im Leben waren. Seit dabei\, wenn Roberto\, wie der Tasmanische Teufel über die Bühne fegt\, wie immer in 4D: Sehen\, Hören\, Fühlen\, Lachen!  \n
URL:http://www.teatrodivino.de/events/roberto-capitoni/
END:VEVENT
END:VCALENDAR