BEGIN:VCALENDAR
VERSION:2.0
PRODID:-//Tutto Vino &amp; Teatro diVino - ECPv4.6.3//NONSGML v1.0//EN
CALSCALE:GREGORIAN
METHOD:PUBLISH
X-WR-CALNAME:Tutto Vino &amp; Teatro diVino
X-ORIGINAL-URL:http://www.teatrodivino.de
X-WR-CALDESC:Events for Tutto Vino &amp; Teatro diVino
BEGIN:VEVENT
DTSTART;TZID=Europe/Berlin:20251213T153000
DTEND;TZID=Europe/Berlin:20251213T170000
DTSTAMP:20260424T184502
CREATED:20241219T112108Z
LAST-MODIFIED:20241219T112108Z
UID:3059-1765639800-1765645200@www.teatrodivino.de
SUMMARY:Shadow Light Duo "das besondere Weihnachtskonzert"
DESCRIPTION: \n
URL:http://www.teatrodivino.de/events/shadow-light-duo-das-besondere-weihnachtskonzert/
LOCATION:Könemannshof 2\, Peine\, Niedersachsen\, 31228\, Deutschland
ORGANIZER;CN="Teatro%20diVino":MAILTO:info@teatrodivino.de
END:VEVENT
END:VCALENDAR