BEGIN:VCALENDAR
VERSION:2.0
PRODID:-//Tutto Vino &amp; Teatro diVino - ECPv4.6.3//NONSGML v1.0//EN
CALSCALE:GREGORIAN
METHOD:PUBLISH
X-WR-CALNAME:Tutto Vino &amp; Teatro diVino
X-ORIGINAL-URL:http://www.teatrodivino.de
X-WR-CALDESC:Events for Tutto Vino &amp; Teatro diVino
BEGIN:VEVENT
DTSTART;TZID=Europe/Berlin:20180317T190000
DTEND;TZID=Europe/Berlin:20180317T190000
DTSTAMP:20260425T120931
CREATED:20170903T101000Z
LAST-MODIFIED:20180124T141138Z
UID:1680-1521313200-1521313200@www.teatrodivino.de
SUMMARY:Sia Korthaus
DESCRIPTION:https://www.siakorthaus.de/ \n  \n
URL:http://www.teatrodivino.de/events/sia-korthaus-2/
LOCATION:Könemannshof 2\, Peine\, Niedersachsen\, 31228\, Deutschland
CATEGORIES:Kabaret
ORGANIZER;CN="Teatro%20diVino":MAILTO:info@teatrodivino.de
END:VEVENT
END:VCALENDAR