BEGIN:VCALENDAR
VERSION:2.0
PRODID:-//Tutto Vino &amp; Teatro diVino - ECPv4.6.3//NONSGML v1.0//EN
CALSCALE:GREGORIAN
METHOD:PUBLISH
X-WR-CALNAME:Tutto Vino &amp; Teatro diVino
X-ORIGINAL-URL:http://www.teatrodivino.de
X-WR-CALDESC:Events for Tutto Vino &amp; Teatro diVino
BEGIN:VEVENT
DTSTART;TZID=Europe/Berlin:20211112T190000
DTEND;TZID=Europe/Berlin:20211112T210000
DTSTAMP:20260424T135900
CREATED:20210715T090511Z
LAST-MODIFIED:20210715T090511Z
UID:2758-1636743600-1636750800@www.teatrodivino.de
SUMMARY:Sia Korthaus
DESCRIPTION: \n
URL:http://www.teatrodivino.de/events/sia-korthaus-4/
LOCATION:Könemannshof 2\, Peine\, Niedersachsen\, 31228\, Deutschland
ORGANIZER;CN="Teatro%20diVino":MAILTO:info@teatrodivino.de
END:VEVENT
END:VCALENDAR