BEGIN:VCALENDAR
VERSION:2.0
PRODID:-//Tutto Vino &amp; Teatro diVino - ECPv4.6.3//NONSGML v1.0//EN
CALSCALE:GREGORIAN
METHOD:PUBLISH
X-WR-CALNAME:Tutto Vino &amp; Teatro diVino
X-ORIGINAL-URL:http://www.teatrodivino.de
X-WR-CALDESC:Events for Tutto Vino &amp; Teatro diVino
BEGIN:VEVENT
DTSTART;TZID=Europe/Berlin:20201128T190000
DTEND;TZID=Europe/Berlin:20201128T190000
DTSTAMP:20260424T184610
CREATED:20191008T143435Z
LAST-MODIFIED:20191008T143515Z
UID:2606-1606590000-1606590000@www.teatrodivino.de
SUMMARY:Sia Korthaus   Oh Pannenbaum – wie schräg hängt dein Lametta
DESCRIPTION:\n\n\n\nSobald wir im Supermarkt gegen die erste Mauer aus „Dominosteinen“ laufen und uns die Dauerbeschallung mit „Jingle Bells“ einen Tinnitus verpasst\, also direkt nach den Sommerferien\, befinden wir uns im Weihnachtsmodus. \nWas folgt\, ist die „besinnliche“ Zeit\, angefüllt mit Wichtelgeschenken aus dem kleinen Horrorladen und mit Besuchen auf den Weihnachtsmärkten\, bei denen wir so viel Glühwein trinken\, bis wir Sachen aus Filz schön finden. \n\n\n\n\nDazu kommt die Weihnachtsfeier in der Firma\, die so lange ein ungeliebtes Pflichtprogramm ist\, bis sich der erste mit blankem Po auf den Kopierer setzt. \nDie Kabarettistin Sia Korthaus ist keine Weihnachtshasserin\, im Gegenteil. Sie liebt Weihnachten und zeigt uns satirisch-lustvoll\, welche großen und kleinen Hindernisse wir bis zu den ersehnten Feiertagen überwinden müssen. \n\n\n\n\n\n\n\n\n
URL:http://www.teatrodivino.de/events/sia-korthaus-oh-pannenbaum-wie-schraeg-haengt-dein-lametta/
LOCATION:Könemannshof 2\, Peine\, Niedersachsen\, 31228\, Deutschland
ORGANIZER;CN="Teatro%20diVino":MAILTO:info@teatrodivino.de
END:VEVENT
END:VCALENDAR