BEGIN:VCALENDAR
VERSION:2.0
PRODID:-//Tutto Vino &amp; Teatro diVino - ECPv4.6.3//NONSGML v1.0//EN
CALSCALE:GREGORIAN
METHOD:PUBLISH
X-WR-CALNAME:Tutto Vino &amp; Teatro diVino
X-ORIGINAL-URL:http://www.teatrodivino.de
X-WR-CALDESC:Events for Tutto Vino &amp; Teatro diVino
BEGIN:VEVENT
DTSTART;TZID=Europe/Berlin:20210606T183000
DTEND;TZID=Europe/Berlin:20210606T210000
DTSTAMP:20260424T184438
CREATED:20210304T111622Z
LAST-MODIFIED:20210511T145446Z
UID:2710-1623004200-1623013200@www.teatrodivino.de
SUMMARY:Sven Bensmann 6.6.2021 18.30 Uhr
DESCRIPTION:Diese Veranstaltung findet open Air statt ! \nUm an der Veranstaltung teilzunehmen benötigen Sie einen negativen Coronatest oder sollten vollständig geimpft sein. \n
URL:http://www.teatrodivino.de/events/sven-bensmann-6-6-2021/
ORGANIZER;CN="Teatro%20diVino":MAILTO:info@teatrodivino.de
END:VEVENT
END:VCALENDAR