BEGIN:VCALENDAR
VERSION:2.0
PRODID:-//Tutto Vino &amp; Teatro diVino - ECPv4.6.3//NONSGML v1.0//EN
CALSCALE:GREGORIAN
METHOD:PUBLISH
X-WR-CALNAME:Tutto Vino &amp; Teatro diVino
X-ORIGINAL-URL:http://www.teatrodivino.de
X-WR-CALDESC:Events for Tutto Vino &amp; Teatro diVino
BEGIN:VEVENT
DTSTART;TZID=Europe/Berlin:20221007T190000
DTEND;TZID=Europe/Berlin:20221007T210000
DTSTAMP:20260425T010106
CREATED:20220208T145718Z
LAST-MODIFIED:20220208T145718Z
UID:2798-1665169200-1665176400@www.teatrodivino.de
SUMMARY:Tina Häussermann " Futschikato"
DESCRIPTION:Lustvoll sucht die Klavierkabarettistin gemeinsam mit ihren 88 schwarz-weißenUntertanen nach den Sandkörnern im Getriebe des Alltags und sorgt dafür\, dassdie Rädchen für einen kurzen Augenblick still stehen. Mit einer gehörigen PortionWurschtigkeit betreibt Tina Häussermann Synapsenpflege. Bierernst undsaukomisch. Ein Abend der Extraklasse. \n \n
URL:http://www.teatrodivino.de/events/tina-haeussermann-futschikato-2/
LOCATION:Könemannshof 2\, Peine\, Niedersachsen\, 31228\, Deutschland
ORGANIZER;CN="Teatro%20diVino":MAILTO:info@teatrodivino.de
END:VEVENT
END:VCALENDAR