BEGIN:VCALENDAR
VERSION:2.0
PRODID:-//Tutto Vino &amp; Teatro diVino - ECPv4.6.3//NONSGML v1.0//EN
CALSCALE:GREGORIAN
METHOD:PUBLISH
X-WR-CALNAME:Tutto Vino &amp; Teatro diVino
X-ORIGINAL-URL:http://www.teatrodivino.de
X-WR-CALDESC:Events for Tutto Vino &amp; Teatro diVino
BEGIN:VEVENT
DTSTART;TZID=Europe/Berlin:20190802T180000
DTEND;TZID=Europe/Berlin:20190802T220000
DTSTAMP:20260425T104011
CREATED:20190729T101039Z
LAST-MODIFIED:20190729T101039Z
UID:2552-1564768800-1564783200@www.teatrodivino.de
SUMMARY:Weinfest in Stederdorf
DESCRIPTION:Tutto Vino\, la Bodega und H.C\, Euling veranstalten zum dritten Mal am 2. und 3. August das gemeinsame Weinfest. \nEdemissener Str. 11 hinten im Garten ab 18.00 Uhr \n  \n
URL:http://www.teatrodivino.de/events/weinfest-in-stederdorf/
END:VEVENT
END:VCALENDAR