BEGIN:VCALENDAR
VERSION:2.0
PRODID:-//Tutto Vino &amp; Teatro diVino - ECPv4.6.3//NONSGML v1.0//EN
CALSCALE:GREGORIAN
METHOD:PUBLISH
X-WR-CALNAME:Tutto Vino &amp; Teatro diVino
X-ORIGINAL-URL:http://www.teatrodivino.de
X-WR-CALDESC:Events for Tutto Vino &amp; Teatro diVino
BEGIN:VEVENT
DTSTART;TZID=Europe/Berlin:20220805T180000
DTEND;TZID=Europe/Berlin:20220805T220000
DTSTAMP:20260424T232609
CREATED:20220728T102643Z
LAST-MODIFIED:20220728T102705Z
UID:2846-1659722400-1659736800@www.teatrodivino.de
SUMMARY:Weinfest Stederdorf 2022
DESCRIPTION:Tutto Vino / Teatro diVino\nDas diesjährige Weinfest\nsteht ganz im Zeichen „20 Jahre Tutto Vino“\nund somit der italienischen Reben.\nFür euer leibliches Wohl und\nmusikalische Unterhaltung ist auch gesorgt.\nWir freuen uns\, euch in dem schönen Ambiente\nbegrüßen zu dürfen.\nEintritt frei!\nKönemannshof 2\, 31228 Peine/Stederdorf\, Tel.: 05171 9888200\nwww. tutto-vino.de\, info@tutto-vino.de\nÖffnungszeiten: Di\, Do\, Fr von 9.30 bis 13.00 Uhr\,\nDi. & Do. 15 bis 18 Uhr u. n. Vereinbarung\nEdemissener Str. 11\, 31228 Peine/StederdorfFreitag\, den 05.08.2022 ab 18.00 UhrSamstag\, den 06.08.2022 ab 16.00 Uhr \n
URL:http://www.teatrodivino.de/events/weinfest-stederdorf-2022/
LOCATION:Könemannshof 2\, Peine\, Niedersachsen\, 31228\, Deutschland
ATTACH;FMTTYPE=image/jpeg:http://www.teatrodivino.de/wp-content/uploads/2022/07/festa.jpg
ORGANIZER;CN="Tutto%20Vino":MAILTO:info@tutto-vino.de
END:VEVENT
END:VCALENDAR