BEGIN:VCALENDAR
VERSION:2.0
PRODID:-//Tutto Vino &amp; Teatro diVino - ECPv4.6.3//NONSGML v1.0//EN
CALSCALE:GREGORIAN
METHOD:PUBLISH
X-WR-CALNAME:Tutto Vino &amp; Teatro diVino
X-ORIGINAL-URL:http://www.teatrodivino.de
X-WR-CALDESC:Events for Tutto Vino &amp; Teatro diVino
BEGIN:VEVENT
DTSTART;TZID=Europe/Berlin:20240803T180000
DTEND;TZID=Europe/Berlin:20240803T220000
DTSTAMP:20260425T005618
CREATED:20240118T101838Z
LAST-MODIFIED:20240118T101838Z
UID:2935-1722708000-1722722400@www.teatrodivino.de
SUMMARY:Weinfest Stederdorf
DESCRIPTION:
URL:http://www.teatrodivino.de/events/weinfest-stederdorf-3/
LOCATION:Könemannshof 2\, Peine\, Niedersachsen\, 31228\, Deutschland
ORGANIZER;CN="Tutto%20Vino":MAILTO:info@tutto-vino.de
END:VEVENT
END:VCALENDAR