BEGIN:VCALENDAR
VERSION:2.0
PRODID:-//Tutto Vino &amp; Teatro diVino - ECPv4.6.3//NONSGML v1.0//EN
CALSCALE:GREGORIAN
METHOD:PUBLISH
X-WR-CALNAME:Tutto Vino &amp; Teatro diVino
X-ORIGINAL-URL:http://www.teatrodivino.de
X-WR-CALDESC:Events for Tutto Vino &amp; Teatro diVino
BEGIN:VEVENT
DTSTART;TZID=Europe/Berlin:20171117T190000
DTEND;TZID=Europe/Berlin:20171117T190000
DTSTAMP:20260425T123054
CREATED:20171018T114921Z
LAST-MODIFIED:20171018T122722Z
UID:2127-1510945200-1510945200@www.teatrodivino.de
SUMMARY:Weinprobe
DESCRIPTION: \n  \n  \n  \nbitte um rechtzeitige Anmeldung ! \n
URL:http://www.teatrodivino.de/events/weinprobe-2/
LOCATION:Könemannshof 2\, Peine\, Niedersachsen\, 31228\, Deutschland
CATEGORIES:Weinproben
ORGANIZER;CN="Tutto%20Vino":MAILTO:info@tutto-vino.de
END:VEVENT
END:VCALENDAR