BEGIN:VCALENDAR
VERSION:2.0
PRODID:-//Tutto Vino &amp; Teatro diVino - ECPv4.6.3//NONSGML v1.0//EN
CALSCALE:GREGORIAN
METHOD:PUBLISH
X-WR-CALNAME:Tutto Vino &amp; Teatro diVino
X-ORIGINAL-URL:http://www.teatrodivino.de
X-WR-CALDESC:Events for Tutto Vino &amp; Teatro diVino
BEGIN:VEVENT
DTSTART;TZID=Europe/Berlin:20211119T190000
DTEND;TZID=Europe/Berlin:20211119T213000
DTSTAMP:20260424T135950
CREATED:20211103T145741Z
LAST-MODIFIED:20211103T145741Z
UID:2777-1637348400-1637357400@www.teatrodivino.de
SUMMARY:Weinprobe Azienda Agricola Fratelli Pisoni Trentino
DESCRIPTION:Wir verkosten zusammen mit Herrn Marco Pisoni 8 Weine\, zusammen mit kleinen regionalen Snacks ! \n
URL:http://www.teatrodivino.de/events/weinprobe-azienda-agricola-fratelli-pisoni-trentino/
ORGANIZER;CN="Tutto%20Vino":MAILTO:info@tutto-vino.de
END:VEVENT
END:VCALENDAR